BEGIN:VCALENDAR
VERSION:2.0
PRODID:-//Facing Suicide - ECPv6.15.20//NONSGML v1.0//EN
CALSCALE:GREGORIAN
METHOD:PUBLISH
X-ORIGINAL-URL:https://facingsuicidevt.com
X-WR-CALDESC:Events for Facing Suicide
REFRESH-INTERVAL;VALUE=DURATION:PT1H
X-Robots-Tag:noindex
X-PUBLISHED-TTL:PT1H
BEGIN:VTIMEZONE
TZID:America/New_York
BEGIN:DAYLIGHT
TZOFFSETFROM:-0500
TZOFFSETTO:-0400
TZNAME:EDT
DTSTART:20250309T070000
END:DAYLIGHT
BEGIN:STANDARD
TZOFFSETFROM:-0400
TZOFFSETTO:-0500
TZNAME:EST
DTSTART:20251102T060000
END:STANDARD
BEGIN:DAYLIGHT
TZOFFSETFROM:-0500
TZOFFSETTO:-0400
TZNAME:EDT
DTSTART:20260308T070000
END:DAYLIGHT
BEGIN:STANDARD
TZOFFSETFROM:-0400
TZOFFSETTO:-0500
TZNAME:EST
DTSTART:20261101T060000
END:STANDARD
BEGIN:DAYLIGHT
TZOFFSETFROM:-0500
TZOFFSETTO:-0400
TZNAME:EDT
DTSTART:20270314T070000
END:DAYLIGHT
BEGIN:STANDARD
TZOFFSETFROM:-0400
TZOFFSETTO:-0500
TZNAME:EST
DTSTART:20271107T060000
END:STANDARD
END:VTIMEZONE
BEGIN:VEVENT
DTSTART;VALUE=DATE:20260416
DTEND;VALUE=DATE:20260611
DTSTAMP:20260423T170941
CREATED:20260311T151106Z
LAST-MODIFIED:20260311T151106Z
UID:10001505-1776297600-1781135999@facingsuicidevt.com
SUMMARY:CAMS Spring Cohort (Collaborative Assessment and Management of Suicidality)
DESCRIPTION:The VPQHC CAMS Spring Cohort has two primary elements: \n1. CAMS Foundational Online Video Training (3 CES AVAILABLE FOR PURCHASE)\nThe CAMS Foundational Online Training is a 3-hour unscripted clinical demonstration with a patient through the course of 12 sessions of the CAMS Framework\, featuring the creator of CAMS\, Dr. David A. Jobes. Participants are encouraged to complete the Foundational Online Training before attending the first Consultation Call. \n2. CAMS Consultation Calls (4 FREE CES AVAILABLE)\nAfter completing the Foundational Online Training clinicians will participate in at least four out of eight CAMS Consultation Calls in order to receive CEs. The consultation calls reinforce learning through case discussions with experienced CAMS consultants. Participants who complete at least four consultation calls will receive a free CAMS source book\, Managing Suicidal Risk: A Collaborative Approach by Dr. David A. Jobes. \nPlease register no later than April 10.
URL:https://facingsuicidevt.com/event/cams-spring-cohort-collaborative-assessment-and-management-of-suicidality/
LOCATION:Online/Virtual
ATTACH;FMTTYPE=image/jpeg:https://facingsuicidevt.com/wp-content/uploads/2026/03/VPQ-logo-centered-high-resolution-v2-14-scaled.jpg
ORGANIZER;CN="Vermont Program for Quality in Healthcare":MAILTO:mail@vpqhc.org
END:VEVENT
BEGIN:VEVENT
DTSTART;TZID=America/New_York:20260513T140000
DTEND;TZID=America/New_York:20260513T153000
DTSTAMP:20260423T170941
CREATED:20260309T112646Z
LAST-MODIFIED:20260309T112646Z
UID:10001517-1778680800-1778686200@facingsuicidevt.com
SUMMARY:QPR (Question Persuade Refer)
DESCRIPTION:Would you give 90 minutes to save a life? NKHS offers QPR introduction to suicide training for adults and caretakers to raise awareness\, dispel myths and misconceptions\, and teach three skills that can help save a life. A QPR trainee will learn to recognize the warning signs of suicide\, how to offer hope\, and how to get help. \nQPR is an emergency response to someone in a suicide crisis just as CPR is an emergency response to a physical health crisis. See the attached Info Flyer for more details. \nWe invite you to register for QPR Suicide Prevention Awareness Training via Zoom. This training is interactive. There is no cost for the training and resource materials for participants thanks to funding from VDH.
URL:https://facingsuicidevt.com/event/qpr-question-persuade-refer-4/
LOCATION:Online/Virtual
ATTACH;FMTTYPE=image/jpeg:https://facingsuicidevt.com/wp-content/uploads/2026/03/northeast_kingdom_human_services_inc_logo-1.jpg
END:VEVENT
END:VCALENDAR